BEGIN:VCALENDAR
VERSION:2.0
PRODID:-//Burntshirt Vineyards - ECPv6.15.20//NONSGML v1.0//EN
CALSCALE:GREGORIAN
METHOD:PUBLISH
X-WR-CALNAME:Burntshirt Vineyards
X-ORIGINAL-URL:https://burntshirtvineyards.com
X-WR-CALDESC:Events for Burntshirt Vineyards
REFRESH-INTERVAL;VALUE=DURATION:PT1H
X-Robots-Tag:noindex
X-PUBLISHED-TTL:PT1H
BEGIN:VTIMEZONE
TZID:America/New_York
BEGIN:DAYLIGHT
TZOFFSETFROM:-0500
TZOFFSETTO:-0400
TZNAME:EDT
DTSTART:20250309T070000
END:DAYLIGHT
BEGIN:STANDARD
TZOFFSETFROM:-0400
TZOFFSETTO:-0500
TZNAME:EST
DTSTART:20251102T060000
END:STANDARD
BEGIN:DAYLIGHT
TZOFFSETFROM:-0500
TZOFFSETTO:-0400
TZNAME:EDT
DTSTART:20260308T070000
END:DAYLIGHT
BEGIN:STANDARD
TZOFFSETFROM:-0400
TZOFFSETTO:-0500
TZNAME:EST
DTSTART:20261101T060000
END:STANDARD
BEGIN:DAYLIGHT
TZOFFSETFROM:-0500
TZOFFSETTO:-0400
TZNAME:EDT
DTSTART:20270314T070000
END:DAYLIGHT
BEGIN:STANDARD
TZOFFSETFROM:-0400
TZOFFSETTO:-0500
TZNAME:EST
DTSTART:20271107T060000
END:STANDARD
END:VTIMEZONE
BEGIN:VEVENT
DTSTART;VALUE=DATE:20260403
DTEND;VALUE=DATE:20260406
DTSTAMP:20260424T061649
CREATED:20260401T130440Z
LAST-MODIFIED:20260401T130659Z
UID:10000250-1775174400-1775433599@burntshirtvineyards.com
SUMMARY:EASTER DINNER AT THE VINTNER'S TABLE
DESCRIPTION:Easter Dinner at the Vintner’s Table \nCelebrate Easter at Burntshirt Vineyards with a special Vintner’s Table dining experience\, thoughtfully curated to highlight the flavors of the season alongside our estate-crafted wines. Begin your meal with inspired appetizers like Cajun Caesar Shrimp Salad or Cajun Crab Cakes. From there\, indulge in elegant entrée selections including a perfectly prepared Rack of Lamb\, tender 6oz Filet\, or delicately Stuffed Trout. Each dish is designed to showcase both culinary craftsmanship and ideal wine pairings from our collection. \nComplete your Easter celebration on a sweet note with decadent desserts such as Lemon Mascarpone Cake or Hot Honey Cheesecake\, each paired to enhance their rich and refreshing flavors. Whether you’re gathering with family or enjoying a leisurely holiday meal\, our Vintner’s Table offers a warm and inviting setting to savor exceptional food\, wine\, and hospitality. Join us for a memorable Easter experience that brings together seasonal cuisine and the spirit of celebration at Burntshirt Vineyards. \nThis special menu will only be available from Friday\, April 3 until Sunday\, April 5.
URL:https://burntshirtvineyards.com/event/easter-dinner-at-the-vintners-table/
LOCATION:Burntshirt Vineyards Tasting Room & Winery\, 2695 Sugarloaf Road\, Hendersonville\, NC\, 28792\, United States
CATEGORIES:Hendersonville
ATTACH;FMTTYPE=image/jpeg:https://burntshirtvineyards.com/wp-content/uploads/2026/04/Beige-Black-Illustrative-Easter-Menu-A4-1080-x-1080-px.jpg
END:VEVENT
BEGIN:VEVENT
DTSTART;TZID=America/New_York:20260404T130000
DTEND;TZID=America/New_York:20260404T160000
DTSTAMP:20260424T061649
CREATED:20260211T153800Z
LAST-MODIFIED:20260211T155645Z
UID:10000228-1775307600-1775318400@burntshirtvineyards.com
SUMMARY:MUSIC AT THE VINEYARD – HIGH LONESOME VELVET
DESCRIPTION:Music at the Vineyard – High Lonesome Velvet \nJoin us Saturday\, April 4 from 1-4 PM at Burntshirt Vineyards Tasting Room & Winery for Live Music at the Vineyard with High Lonesome Velvet! \nHigh Lonesome Velvet is fabulous trio of  David Wiseman\, Kathy Shealy Stout\, and Alan Johnson. Meet the band that has been regaling local audiences of Western NC for years! Come on down to Burntshirt Vineyards Tasting Room and Winery in Hendersonville for an afternoon of fantastic food and award-winning wines accompanied by the amazing musicianship of the High Lonesome Velvet trio! We can’t wait to see you here!
URL:https://burntshirtvineyards.com/event/music-at-the-vineyard-high-lonesome-velvet-4-4-2026/
LOCATION:Burntshirt Vineyards Tasting Room & Winery\, 2695 Sugarloaf Road\, Hendersonville\, NC\, 28792\, United States
CATEGORIES:Hendersonville
ATTACH;FMTTYPE=image/png:https://burntshirtvineyards.com/wp-content/uploads/2025/01/High-Lonesome-Velvet.png
END:VEVENT
END:VCALENDAR