BEGIN:VCALENDAR
VERSION:2.0
PRODID:-//Burntshirt Vineyards - ECPv6.15.20//NONSGML v1.0//EN
CALSCALE:GREGORIAN
METHOD:PUBLISH
X-ORIGINAL-URL:https://burntshirtvineyards.com
X-WR-CALDESC:Events for Burntshirt Vineyards
REFRESH-INTERVAL;VALUE=DURATION:PT1H
X-Robots-Tag:noindex
X-PUBLISHED-TTL:PT1H
BEGIN:VTIMEZONE
TZID:UTC
BEGIN:STANDARD
TZOFFSETFROM:+0000
TZOFFSETTO:+0000
TZNAME:UTC
DTSTART:20250101T000000
END:STANDARD
END:VTIMEZONE
BEGIN:VTIMEZONE
TZID:America/New_York
BEGIN:DAYLIGHT
TZOFFSETFROM:-0500
TZOFFSETTO:-0400
TZNAME:EDT
DTSTART:20250309T070000
END:DAYLIGHT
BEGIN:STANDARD
TZOFFSETFROM:-0400
TZOFFSETTO:-0500
TZNAME:EST
DTSTART:20251102T060000
END:STANDARD
BEGIN:DAYLIGHT
TZOFFSETFROM:-0500
TZOFFSETTO:-0400
TZNAME:EDT
DTSTART:20260308T070000
END:DAYLIGHT
BEGIN:STANDARD
TZOFFSETFROM:-0400
TZOFFSETTO:-0500
TZNAME:EST
DTSTART:20261101T060000
END:STANDARD
BEGIN:DAYLIGHT
TZOFFSETFROM:-0500
TZOFFSETTO:-0400
TZNAME:EDT
DTSTART:20270314T070000
END:DAYLIGHT
BEGIN:STANDARD
TZOFFSETFROM:-0400
TZOFFSETTO:-0500
TZNAME:EST
DTSTART:20271107T060000
END:STANDARD
END:VTIMEZONE
BEGIN:VEVENT
DTSTART;TZID=UTC:20260426T130000
DTEND;TZID=UTC:20260426T150000
DTSTAMP:20260420T042746
CREATED:20260330T165408Z
LAST-MODIFIED:20260331T161523Z
UID:10000248-1777208400-1777215600@burntshirtvineyards.com
SUMMARY:Spring 2026 Wine Club Pickup Party
DESCRIPTION:Spring 2026 Wine Club Pickup Party \nBurntshirt Vineyards Wine Club Members! Our April Wine Club release is coming up soon! Join us Sunday\, April 26th from 1-3 PM at the Burntshirt Vineyards Tasting Room and Winery Summit Event Center in Hendersonville for our Spring Wine Pickup Party. Make your reservations below to attend our Spring Wine Club Pickup Party\, and join us for music\, appetizers and a complimentary glass of wine. Your 3400 Club Silver or Gold level selections will be available to pick up and enjoy just in time for the change in season! \nPlease RSVP HERE. RSVP will close on Wednesday\, 4/22 at 11:59PM\, so please make your reservations prior to this time. Reservations are limited to club member and a guest.
URL:https://burntshirtvineyards.com/event/spring-2026-wine-club-pickup-party/
LOCATION:Burntshirt Vineyards Tasting Room & Winery\, 2695 Sugarloaf Road\, Hendersonville\, NC\, 28792\, United States
CATEGORIES:Hendersonville
ATTACH;FMTTYPE=image/jpeg:https://burntshirtvineyards.com/wp-content/uploads/2026/03/Spring-2026-Wine-Club-Pickup-Party-1.jpg
END:VEVENT
BEGIN:VEVENT
DTSTART;TZID=America/New_York:20260426T130000
DTEND;TZID=America/New_York:20260426T160000
DTSTAMP:20260420T042746
CREATED:20260216T145650Z
LAST-MODIFIED:20260216T145650Z
UID:10000236-1777208400-1777219200@burntshirtvineyards.com
SUMMARY:MUSIC AT THE VINEYARD – ANDREW WAKEFIELD
DESCRIPTION:Music at the Vineyard – Andrew Wakefield \nJoin us Sunday\, April 26 from 1-4 PM at Burntshirt Vineyards Tasting Room & Winery for Live Music at the Vineyard with Andrew Wakefield! \nAndrew Wakefield is a songwriter\, singer\, and guitarist\, performing solo and with Supper Break and Well Drinkers\, based in Asheville\, NC. Andrew has an eclectic catalog of compositions ranging from guitar-driven bluegrass to folk\, old-time rock\, Americana\, and more. With a knack for song-craft and a boundless passion for the guitar\,  Andrew has become an underground bluegrass fixture as word of his talent continues to spread. Weaving old with new\, blurring genres\, and pouring heart and soul into every live performance\, he brings the American roots music community something always needed: a sound and style of his own. \nCome on down to Burntshirt Vineyards Tasting Room and Winery in Hendersonville for an evening of fantastic food and award-winning wines accompanied by the amazing musicianship of Andrew Wakefield! We can’t wait to see you here!
URL:https://burntshirtvineyards.com/event/music-at-the-vineyard-andrew-wakefield-4-26-2026/
LOCATION:Burntshirt Vineyards Tasting Room & Winery\, 2695 Sugarloaf Road\, Hendersonville\, NC\, 28792\, United States
CATEGORIES:Hendersonville
ATTACH;FMTTYPE=image/png:https://burntshirtvineyards.com/wp-content/uploads/2025/01/Andrew_Wakefield.png
END:VEVENT
END:VCALENDAR