BEGIN:VCALENDAR
VERSION:2.0
PRODID:-//Burntshirt Vineyards - ECPv6.15.20//NONSGML v1.0//EN
CALSCALE:GREGORIAN
METHOD:PUBLISH
X-ORIGINAL-URL:https://burntshirtvineyards.com
X-WR-CALDESC:Events for Burntshirt Vineyards
REFRESH-INTERVAL;VALUE=DURATION:PT1H
X-Robots-Tag:noindex
X-PUBLISHED-TTL:PT1H
BEGIN:VTIMEZONE
TZID:America/New_York
BEGIN:DAYLIGHT
TZOFFSETFROM:-0500
TZOFFSETTO:-0400
TZNAME:EDT
DTSTART:20250309T070000
END:DAYLIGHT
BEGIN:STANDARD
TZOFFSETFROM:-0400
TZOFFSETTO:-0500
TZNAME:EST
DTSTART:20251102T060000
END:STANDARD
BEGIN:DAYLIGHT
TZOFFSETFROM:-0500
TZOFFSETTO:-0400
TZNAME:EDT
DTSTART:20260308T070000
END:DAYLIGHT
BEGIN:STANDARD
TZOFFSETFROM:-0400
TZOFFSETTO:-0500
TZNAME:EST
DTSTART:20261101T060000
END:STANDARD
BEGIN:DAYLIGHT
TZOFFSETFROM:-0500
TZOFFSETTO:-0400
TZNAME:EDT
DTSTART:20270314T070000
END:DAYLIGHT
BEGIN:STANDARD
TZOFFSETFROM:-0400
TZOFFSETTO:-0500
TZNAME:EST
DTSTART:20271107T060000
END:STANDARD
END:VTIMEZONE
BEGIN:VEVENT
DTSTART;TZID=America/New_York:20260522T160000
DTEND;TZID=America/New_York:20260522T190000
DTSTAMP:20260424T131634
CREATED:20260313T203039Z
LAST-MODIFIED:20260313T211538Z
UID:10000244-1779465600-1779476400@burntshirtvineyards.com
SUMMARY:MUSIC AT THE VINEYARD – LETTERS TO ABIGAIL
DESCRIPTION:Music at the Vineyard – Letters to Abigail \nJoin us on Friday\, May 22 from 4-7 PM at Burntshirt Vineyards Tasting Room & Winery for Live Music at the Vineyard with Letters to Abigail! \nLetters To Abigail is an acoustic Americana band that combines heartfelt lyrics and silky harmonies to create a unique and refreshing sound. Fronted by songwriters James Harrell of Snowville\, VA and Kelli Redmond of Asheville\, NC\, the duo is a modern day string band with a distinctly old time feel. \nCome on down to Burntshirt Vineyards Tasting Room and Winery in Hendersonville for an evening of fantastic food and award-winning wines accompanied by the amazing musicianship of Letters to Abigail! We can’t wait to see you here!
URL:https://burntshirtvineyards.com/event/music-at-the-vineyard-letters-to-abigail-5-22-2026/
LOCATION:Burntshirt Vineyards Tasting Room & Winery\, 2695 Sugarloaf Road\, Hendersonville\, NC\, 28792\, United States
CATEGORIES:Hendersonville
ATTACH;FMTTYPE=image/webp:https://burntshirtvineyards.com/wp-content/uploads/2024/07/Letters-to-abigail-e1745855677942.webp
END:VEVENT
BEGIN:VEVENT
DTSTART;TZID=America/New_York:20260523T130000
DTEND;TZID=America/New_York:20260523T160000
DTSTAMP:20260424T131634
CREATED:20260316T140553Z
LAST-MODIFIED:20260415T132232Z
UID:10000245-1779541200-1779552000@burntshirtvineyards.com
SUMMARY:MUSIC AT THE VINEYARD – THE SUITCASE TRIO
DESCRIPTION:Music at the Vineyard – The Suitcase Trio \nJoin us on Saturday\, May 23 from 1-4 PM at Burntshirt Vineyards Tasting Room & Winery for Live Music at the Vineyard with The Suitcase Trio! \nCome on down to Burntshirt Vineyards Tasting Room and Winery in Hendersonville for an afternoon of fantastic food and award-winning wines accompanied by the amazing musicianship of The Suitcase Trio! We can’t wait to see you here!
URL:https://burntshirtvineyards.com/event/music-at-the-vineyard-the-suitcase-trio-5-23-2026/
LOCATION:Burntshirt Vineyards Tasting Room & Winery\, 2695 Sugarloaf Road\, Hendersonville\, NC\, 28792\, United States
CATEGORIES:Hendersonville
ATTACH;FMTTYPE=image/jpeg:https://burntshirtvineyards.com/wp-content/uploads/2026/03/The-Suitcase-Trio.jpg
END:VEVENT
BEGIN:VEVENT
DTSTART;TZID=America/New_York:20260524T130000
DTEND;TZID=America/New_York:20260524T160000
DTSTAMP:20260424T131634
CREATED:20260316T154853Z
LAST-MODIFIED:20260316T154853Z
UID:10000246-1779627600-1779638400@burntshirtvineyards.com
SUMMARY:MUSIC AT THE VINEYARD – THE JACKTOWN RAMBLERS
DESCRIPTION:Music at the Vineyard – The JackTown Ramblers \nJoin us Sunday\, May 24 from 1-4 PM at Burntshirt Vineyards Tasting Room & Winery for Live Music at the Vineyard with The JackTown Ramblers! \nThe JackTown Ramblers\, hailing proudly from Morganton\, NC\, embody the true spirit of bluegrass music with their infectious energy and deep-rooted passion. Consisting of four musicians with a deep history in the music\, they have carved out a name for themselves as stalwarts of the local music scene\, captivating audiences with their distinctive blend of swingy bluegrass and traditional mountain melodies. \nFormed with a shared love for their craft\, The JackTown Ramblers are known for their dynamic performances\, delivering somewhere between 75 and 100 shows annually. Each member brings a unique flair to their music\, creating a synergy that resonates with listeners far and wide. Their repertoire spans both time-honored classics and original compositions\, showcasing their versatility and dedication to the genre. \n“If there is any group of musicians that deserve the designation of ‘band’ then it’s The JackTown Ramblers. This band is mature and experienced on one hand but still young\, fresh and curious on the other. You can hear it in every single track\, how they continually amaze and surprise one another\, all for the sake of the ensemble’s production. And you certainly can feel the fun that these guys have pouring all their hearts into their show.” -Severin Theinert\, Uncut Grass \nCome on down to Burntshirt Vineyards Tasting Room and Winery in Hendersonville for an afternoon of amazing musicianship\, fantastic food\, and award-winning wines! We can’t wait to see you here! 
URL:https://burntshirtvineyards.com/event/music-at-the-vineyard-the-jacktown-ramblers-5-24-2026/
LOCATION:Burntshirt Vineyards Tasting Room & Winery\, 2695 Sugarloaf Road\, Hendersonville\, NC\, 28792\, United States
CATEGORIES:Hendersonville
ATTACH;FMTTYPE=image/jpeg:https://burntshirtvineyards.com/wp-content/uploads/2025/01/the-jacktown-ramblers.jpeg
END:VEVENT
BEGIN:VEVENT
DTSTART;TZID=America/New_York:20260530T130000
DTEND;TZID=America/New_York:20260530T160000
DTSTAMP:20260424T131634
CREATED:20260316T162054Z
LAST-MODIFIED:20260316T162054Z
UID:10000247-1780146000-1780156800@burntshirtvineyards.com
SUMMARY:MUSIC AT THE VINEYARD – SETH AND SARA
DESCRIPTION:Music at the Vineyard – Seth and Sara \nJoin us Saturday\, May 30 from 1-4 PM at Burntshirt Vineyards Tasting Room and Winery for Live Music at the Vineyard with Seth and Sara! \nIn September 2018 this dynamic husband and wife duo both quit their jobs\, sold everything\, and moved across the country to Asheville\, NC to pursue a full time career in music. Since then they have toured 49 states and played hundreds of shows\, performing their modern-western originals as well as covers. \nSeth and Sara will be bringing their cowboy-inspired tunes to Burntshirt Vineyards Tasting Room and Winery in Hendersonville from 1-4 PM Saturdayday\, 5/30. Come on out for an afternoon of great food\, award-wining wines and fantastic musicianship! We can’t wait to see you here!
URL:https://burntshirtvineyards.com/event/music-at-the-vineyard-seth-and-sara-5-30-2026/
LOCATION:Burntshirt Vineyards Tasting Room & Winery\, 2695 Sugarloaf Road\, Hendersonville\, NC\, 28792\, United States
CATEGORIES:Hendersonville
ATTACH;FMTTYPE=image/jpeg:https://burntshirtvineyards.com/wp-content/uploads/2024/07/seth-and-sara-e1720740389333.jpeg
END:VEVENT
END:VCALENDAR