BEGIN:VCALENDAR
VERSION:2.0
PRODID:-//Burntshirt Vineyards - ECPv6.15.20//NONSGML v1.0//EN
CALSCALE:GREGORIAN
METHOD:PUBLISH
X-WR-CALNAME:Burntshirt Vineyards
X-ORIGINAL-URL:https://burntshirtvineyards.com
X-WR-CALDESC:Events for Burntshirt Vineyards
REFRESH-INTERVAL;VALUE=DURATION:PT1H
X-Robots-Tag:noindex
X-PUBLISHED-TTL:PT1H
BEGIN:VTIMEZONE
TZID:America/New_York
BEGIN:DAYLIGHT
TZOFFSETFROM:-0500
TZOFFSETTO:-0400
TZNAME:EDT
DTSTART:20250309T070000
END:DAYLIGHT
BEGIN:STANDARD
TZOFFSETFROM:-0400
TZOFFSETTO:-0500
TZNAME:EST
DTSTART:20251102T060000
END:STANDARD
BEGIN:DAYLIGHT
TZOFFSETFROM:-0500
TZOFFSETTO:-0400
TZNAME:EDT
DTSTART:20260308T070000
END:DAYLIGHT
BEGIN:STANDARD
TZOFFSETFROM:-0400
TZOFFSETTO:-0500
TZNAME:EST
DTSTART:20261101T060000
END:STANDARD
BEGIN:DAYLIGHT
TZOFFSETFROM:-0500
TZOFFSETTO:-0400
TZNAME:EDT
DTSTART:20270314T070000
END:DAYLIGHT
BEGIN:STANDARD
TZOFFSETFROM:-0400
TZOFFSETTO:-0500
TZNAME:EST
DTSTART:20271107T060000
END:STANDARD
END:VTIMEZONE
BEGIN:VTIMEZONE
TZID:UTC
BEGIN:STANDARD
TZOFFSETFROM:+0000
TZOFFSETTO:+0000
TZNAME:UTC
DTSTART:20250101T000000
END:STANDARD
END:VTIMEZONE
BEGIN:VEVENT
DTSTART;TZID=America/New_York:20260207T130000
DTEND;TZID=America/New_York:20260207T160000
DTSTAMP:20260424T043458
CREATED:20260115T205154Z
LAST-MODIFIED:20260115T205154Z
UID:10000219-1770469200-1770480000@burntshirtvineyards.com
SUMMARY:MUSIC AT THE VINEYARD – HIGH LONESOME VELVET
DESCRIPTION:Music at the Vineyard – High Lonesome Velvet \nJoin us Saturday\, February 7 from 1-4 PM at Burntshirt Vineyards Tasting Room & Winery for Live Music at the Vineyard with High Lonesome Velvet! \nHigh Lonesome Velvet is fabulous trio of  David Wiseman\, Kathy Shealy Stout\, and Alan Johnson. Meet the band that has been regaling local audiences of Western NC for years! Come on down to Burntshirt Vineyards Tasting Room and Winery in Hendersonville for an afternoon of fantastic food and award-winning wines accompanied by the amazing musicianship of the High Lonesome Velvet trio! We can’t wait to see you here!
URL:https://burntshirtvineyards.com/event/music-at-the-vineyard-high-lonesome-velvet-2-7-2026/
LOCATION:Burntshirt Vineyards Tasting Room & Winery\, 2695 Sugarloaf Road\, Hendersonville\, NC\, 28792\, United States
CATEGORIES:Hendersonville
ATTACH;FMTTYPE=image/png:https://burntshirtvineyards.com/wp-content/uploads/2025/01/High-Lonesome-Velvet.png
END:VEVENT
BEGIN:VEVENT
DTSTART;TZID=UTC:20260213T113000
DTEND;TZID=UTC:20260215T180000
DTSTAMP:20260424T043458
CREATED:20260209T210756Z
LAST-MODIFIED:20260212T184828Z
UID:10000227-1770982200-1771178400@burntshirtvineyards.com
SUMMARY:VALENTINE'S DAY WEEKEND AT BURNTSHIRT VINEYARDS
DESCRIPTION:Join us Valentine’s Day Weekend at Burntshirt Vineyards! \n💖 Friday Night\, 2/13 — Grab your friends and kick things off with Galentine’s vibes.\n❤️ Saturday & Sunday\, 2/14-2/15 — Celebrate however you like\, with love\, wine\, and time well spent.\n \n🎶 Saturday Live Music — The Jacktown Ramblers | 1-4 PM\n \n🍽 Valentine’s Weekend Special — $89 per couple\n• Choice of Wagyu Tenderloin or Shrimp Scampi with White Wine Sauce\n• Two side salads\n• Two baked potatoes\n• Sautéed green beans\n• Two slices of cheesecake\n• Your choice of one bottle of wine to share\n✨ Available all weekend\n \n📅 Reservations are encouraged at OpenTable\n \nWhether you’re celebrating friends\, romance\, or simply good wine — we’ll be ready for you! 🍷❤️
URL:https://burntshirtvineyards.com/event/valentines-day-weekend-2-14-2026/
LOCATION:Burntshirt Vineyards Tasting Room & Winery\, 2695 Sugarloaf Road\, Hendersonville\, NC\, 28792\, United States
CATEGORIES:Hendersonville
ATTACH;FMTTYPE=image/jpeg:https://burntshirtvineyards.com/wp-content/uploads/2026/02/VALENTINES-DAY-WEEKEND-AT-BURNTSHIRT-VINEYARDS.jpg
END:VEVENT
BEGIN:VEVENT
DTSTART;TZID=America/New_York:20260214T130000
DTEND;TZID=America/New_York:20260214T160000
DTSTAMP:20260424T043458
CREATED:20260115T210659Z
LAST-MODIFIED:20260115T211218Z
UID:10000220-1771074000-1771084800@burntshirtvineyards.com
SUMMARY:MUSIC AT THE VINEYARD – THE JACKTOWN RAMBLERS
DESCRIPTION:Music at the Vineyard – The JackTown Ramblers \nJoin us Saturday\, February 14 from 1-4 PM at Burntshirt Vineyards Tasting Room & Winery for Live Music at the Vineyard with The JackTown Ramblers! \nThe JackTown Ramblers\, hailing proudly from Morganton\, NC\, embody the true spirit of bluegrass music with their infectious energy and deep-rooted passion. Consisting of four musicians with a deep history in the music\, they have carved out a name for themselves as stalwarts of the local music scene\, captivating audiences with their distinctive blend of swingy bluegrass and traditional mountain melodies. \nFormed with a shared love for their craft\, The JackTown Ramblers are known for their dynamic performances\, delivering somewhere between 75 and 100 shows annually. Each member brings a unique flair to their music\, creating a synergy that resonates with listeners far and wide. Their repertoire spans both time-honored classics and original compositions\, showcasing their versatility and dedication to the genre. \n“If there is any group of musicians that deserve the designation of ‘band’ then it’s The JackTown Ramblers. This band is mature and experienced on one hand but still young\, fresh and curious on the other. You can hear it in every single track\, how they continually amaze and surprise one another\, all for the sake of the ensemble’s production. And you certainly can feel the fun that these guys have pouring all their hearts into their show.” -Severin Theinert\, Uncut Grass \nCome on down to Burntshirt Vineyards Tasting Room and Winery in Hendersonville for an afternoon of amazing musicianship\, fantastic food\, and award-winning wines! We can’t wait to see you here! 
URL:https://burntshirtvineyards.com/event/music-at-the-vineyard-the-jacktown-ramblers-2-14-2026/
LOCATION:Burntshirt Vineyards Tasting Room & Winery\, 2695 Sugarloaf Road\, Hendersonville\, NC\, 28792\, United States
CATEGORIES:Hendersonville
ATTACH;FMTTYPE=image/jpeg:https://burntshirtvineyards.com/wp-content/uploads/2025/01/the-jacktown-ramblers.jpeg
END:VEVENT
BEGIN:VEVENT
DTSTART;TZID=America/New_York:20260221T130000
DTEND;TZID=America/New_York:20260221T160000
DTSTAMP:20260424T043458
CREATED:20260115T211553Z
LAST-MODIFIED:20260115T211633Z
UID:10000221-1771678800-1771689600@burntshirtvineyards.com
SUMMARY:MUSIC AT THE VINEYARD – THE PAPER CROWNS
DESCRIPTION:Music at the Vineyard – The Paper Crowns \nJoin us Saturday\, February 21 from 1-4 PM at Burntshirt Vineyards Tasting Room & Winery for Live Music at the Vineyard with The Paper Crowns! \nThe Paper Crowns are the multi-instrument\, genre crossing power duo of Spiro and Nicole Nicolopoulos. They are earning their reputation as the genuine article as a band on the cutting edge of modern roots music. Their musical chemistry is a gumbo of Appalachian folk and bluegrass\, Dixieland melodies\, delta blues\, acid rock\, murder ballads\, outlaw country and Southern Gospel that they cook up into a sound all their own. As a duo they have a full band sound with drums\, bass\, acoustic and electric guitars and banjo. They also incorporate live looping and on-the-spot compositions. Their mix of modern and traditional performance creates a captivating intensity yet always honors their intimacy and emotional rawness as a duo. \nThe Paper Crowns “have this aura of honesty in their music that’s genuine\, easy to grasp\, yet also not a complete giveaway.” (Waleed Rashidi – IE Weekly) “At first glance you may think you could pigeon hole them into expectations. They might surprise you. Their songs are some of the best in the nation. Take the time and check them out for yourself.” (Juan Bengoa – Concert Promoter/Booking Agent) \nThe Paper Crowns will be bringing the tunes to Burntshirt Vineyards from 1-4 PM Saturday\, 2/21. Come on down to Burntshirt Vineyards Tasting Room and Winery in Hendersonville for an afternoon of fantastic food and wines! We can’t wait to see you here!
URL:https://burntshirtvineyards.com/event/music-at-the-vineyard-the-paper-crowns-2-21-2026/
LOCATION:Burntshirt Vineyards Tasting Room & Winery\, 2695 Sugarloaf Road\, Hendersonville\, NC\, 28792\, United States
CATEGORIES:Hendersonville
ATTACH;FMTTYPE=image/jpeg:https://burntshirtvineyards.com/wp-content/uploads/2025/01/the-paper-crowns.jpeg
END:VEVENT
BEGIN:VEVENT
DTSTART;TZID=America/New_York:20260228T130000
DTEND;TZID=America/New_York:20260228T160000
DTSTAMP:20260424T043458
CREATED:20260115T212651Z
LAST-MODIFIED:20260115T212651Z
UID:10000222-1772283600-1772294400@burntshirtvineyards.com
SUMMARY:MUSIC AT THE VINEYARD – SETH AND SARA
DESCRIPTION:Music at the Vineyard – Seth and Sara \nJoin us Saturday\, February 28 from 1-4 PM at Burntshirt Vineyards Tasting Room and Winery for Live Music at the Vineyard with Seth and Sara! \nIn September 2018 this dynamic husband and wife duo both quit their jobs\, sold everything\, and moved across the country to Asheville\, NC to pursue a full time career in music. Since then they have toured 49 states and played hundreds of shows\, performing their modern-western originals as well as covers. \nSeth and Sara will be bringing their cowboy-inspired tunes to Burntshirt Vineyards Tasting Room and Winery in Hendersonville from 1-4 PM Saturday\, 2/28. Come on out for an afternoon of great food\, award-wining wines and fantastic musicianship! We can’t wait to see you here!
URL:https://burntshirtvineyards.com/event/music-at-the-vineyard-seth-and-sara-2-28-2026/
LOCATION:Burntshirt Vineyards Tasting Room & Winery\, 2695 Sugarloaf Road\, Hendersonville\, NC\, 28792\, United States
CATEGORIES:Hendersonville
ATTACH;FMTTYPE=image/jpeg:https://burntshirtvineyards.com/wp-content/uploads/2024/07/seth-and-sara-e1720740389333.jpeg
END:VEVENT
END:VCALENDAR